BEGIN:VCALENDAR
VERSION:2.0
PRODID:GIGPRESS 2.0 WORDPRESS PLUGIN
CALSCALE:GREGORIAN
X-WR-TIMEZONE:Etc/GMT
METHOD:PUBLISH
BEGIN:VTIMEZONE
TZID:GMT
BEGIN:STANDARD
DTSTART:20071028T010000
TZOFFSETTO:+0000
TZOFFSETFROM:+0000
END:STANDARD
END:VTIMEZONE
BEGIN:VEVENT
SUMMARY:Nero's Fiddle at First Presbyterian Church
DESCRIPTION:Notes: Nero's Fiddle provides music for the Gallery Hop at First Presbyterian Church in Lexington. All Ages
LOCATION:First Presbyterian Church\, 174 N Mill St\, Lexington\, US
UID:20260918T170000Z-573-dean@deanphelpsmusic.com
URL:https://www.deanphelpsmusic.com/calendar/
DTSTART;VALUE=DATE-TIME;TZID=GMT:20260918T170000Z
DTEND;VALUE=DATE-TIME;TZID=GMT:20260918T170000Z
DTSTAMP:20260420T011319Z
END:VEVENT
END:VCALENDAR