BEGIN:VCALENDAR
VERSION:2.0
PRODID:GIGPRESS 2.0 WORDPRESS PLUGIN
CALSCALE:GREGORIAN
X-WR-TIMEZONE:Etc/GMT
METHOD:PUBLISH
BEGIN:VTIMEZONE
TZID:GMT
BEGIN:STANDARD
DTSTART:20071028T010000
TZOFFSETTO:+0000
TZOFFSETFROM:+0000
END:STANDARD
END:VTIMEZONE
BEGIN:VEVENT
SUMMARY:Nero's Fiddle at Kenwick Table
DESCRIPTION:All Ages
LOCATION:Kenwick Table\, 201 Owlsley Ave\, Lexington\, US
UID:20260626T070000Z-567-dean@deanphelpsmusic.com
URL:https://www.deanphelpsmusic.com/calendar/
DTSTART;VALUE=DATE-TIME;TZID=GMT:20260626T070000Z
DTEND;VALUE=DATE-TIME;TZID=GMT:20260626T070000Z
DTSTAMP:20260423T082217Z
END:VEVENT
END:VCALENDAR